BEGIN:VCALENDAR
VERSION:2.0
PRODID:-//Western Regional Button Association - ECPv6.15.17.1//NONSGML v1.0//EN
CALSCALE:GREGORIAN
METHOD:PUBLISH
X-ORIGINAL-URL:https://wrba.us
X-WR-CALDESC:Events for Western Regional Button Association
REFRESH-INTERVAL;VALUE=DURATION:PT1H
X-Robots-Tag:noindex
X-PUBLISHED-TTL:PT1H
BEGIN:VTIMEZONE
TZID:America/Denver
BEGIN:DAYLIGHT
TZOFFSETFROM:-0700
TZOFFSETTO:-0600
TZNAME:MDT
DTSTART:20150308T090000
END:DAYLIGHT
BEGIN:STANDARD
TZOFFSETFROM:-0600
TZOFFSETTO:-0700
TZNAME:MST
DTSTART:20151101T080000
END:STANDARD
BEGIN:DAYLIGHT
TZOFFSETFROM:-0700
TZOFFSETTO:-0600
TZNAME:MDT
DTSTART:20160313T090000
END:DAYLIGHT
BEGIN:STANDARD
TZOFFSETFROM:-0600
TZOFFSETTO:-0700
TZNAME:MST
DTSTART:20161106T080000
END:STANDARD
BEGIN:DAYLIGHT
TZOFFSETFROM:-0700
TZOFFSETTO:-0600
TZNAME:MDT
DTSTART:20170312T090000
END:DAYLIGHT
BEGIN:STANDARD
TZOFFSETFROM:-0600
TZOFFSETTO:-0700
TZNAME:MST
DTSTART:20171105T080000
END:STANDARD
BEGIN:DAYLIGHT
TZOFFSETFROM:-0700
TZOFFSETTO:-0600
TZNAME:MDT
DTSTART:20180311T090000
END:DAYLIGHT
BEGIN:STANDARD
TZOFFSETFROM:-0600
TZOFFSETTO:-0700
TZNAME:MST
DTSTART:20181104T080000
END:STANDARD
BEGIN:DAYLIGHT
TZOFFSETFROM:-0700
TZOFFSETTO:-0600
TZNAME:MDT
DTSTART:20190310T090000
END:DAYLIGHT
BEGIN:STANDARD
TZOFFSETFROM:-0600
TZOFFSETTO:-0700
TZNAME:MST
DTSTART:20191103T080000
END:STANDARD
BEGIN:DAYLIGHT
TZOFFSETFROM:-0700
TZOFFSETTO:-0600
TZNAME:MDT
DTSTART:20200308T090000
END:DAYLIGHT
BEGIN:STANDARD
TZOFFSETFROM:-0600
TZOFFSETTO:-0700
TZNAME:MST
DTSTART:20201101T080000
END:STANDARD
BEGIN:DAYLIGHT
TZOFFSETFROM:-0700
TZOFFSETTO:-0600
TZNAME:MDT
DTSTART:20210314T090000
END:DAYLIGHT
BEGIN:STANDARD
TZOFFSETFROM:-0600
TZOFFSETTO:-0700
TZNAME:MST
DTSTART:20211107T080000
END:STANDARD
BEGIN:DAYLIGHT
TZOFFSETFROM:-0700
TZOFFSETTO:-0600
TZNAME:MDT
DTSTART:20220313T090000
END:DAYLIGHT
BEGIN:STANDARD
TZOFFSETFROM:-0600
TZOFFSETTO:-0700
TZNAME:MST
DTSTART:20221106T080000
END:STANDARD
BEGIN:DAYLIGHT
TZOFFSETFROM:-0700
TZOFFSETTO:-0600
TZNAME:MDT
DTSTART:20230312T090000
END:DAYLIGHT
BEGIN:STANDARD
TZOFFSETFROM:-0600
TZOFFSETTO:-0700
TZNAME:MST
DTSTART:20231105T080000
END:STANDARD
END:VTIMEZONE
BEGIN:VTIMEZONE
TZID:UTC
BEGIN:STANDARD
TZOFFSETFROM:+0000
TZOFFSETTO:+0000
TZNAME:UTC
DTSTART:20140101T000000
END:STANDARD
END:VTIMEZONE
BEGIN:VEVENT
DTSTART;VALUE=DATE:20220505
DTEND;VALUE=DATE:20220508
DTSTAMP:20260419T215321
CREATED:20211230T234700Z
LAST-MODIFIED:20220413T002041Z
UID:10000039-1651708800-1651967999@wrba.us
SUMMARY:2022-23 Oregon Button Show
DESCRIPTION:2022-2023 OSBS shows are canceled.\nCome see us at the Portland National Button Society Convention in August\, 2023.
URL:https://wrba.us/event/oregon-button-show/
LOCATION:Holiday Inn\, Salem Oregon\, 3301 Market St NE\,\, Salem\, OR\, 97301
CATEGORIES:State Society Events
ORGANIZER;CN="Oregon State Button Society":MAILTO:http://oregonbuttonsociety.org/contact.php
END:VEVENT
BEGIN:VEVENT
DTSTART;VALUE=DATE:20190804
DTEND;VALUE=DATE:20190811
DTSTAMP:20260419T215321
CREATED:20181207T214843Z
LAST-MODIFIED:20181207T214843Z
UID:10000049-1564876800-1565481599@wrba.us
SUMMARY:Full Event: 2019 NBS Portland Convention 8/4-8/10
DESCRIPTION:Pre-registered Full-week event. Open to the public 8/8 (Thu)-8/10(Sat)\, 2019.
URL:https://wrba.us/event/full-event-2019-nbs-portland-convention-8-4-8-10/
CATEGORIES:National Convention
ATTACH;FMTTYPE=image/png:https://wrba.us/wp-content/uploads/2018/12/midmod-invitation-image.png
ORGANIZER;CN="Oregon State Button Society":MAILTO:http://oregonbuttonsociety.org/contact.php
END:VEVENT
BEGIN:VEVENT
DTSTART;TZID=America/Denver:20160827T110000
DTEND;TZID=America/Denver:20160827T150000
DTSTAMP:20260419T215321
CREATED:20160727T202647Z
LAST-MODIFIED:20160727T202647Z
UID:10000023-1472295600-1472310000@wrba.us
SUMMARY:Oregon Button Picnic
DESCRIPTION:Oregon State Button Society \nAnnual Summer Picnic \n11:00 a.m.\nProgram: “Dorothy called them Goofies”\nAn outdoor (under covered pavilion) program on realistic buttons focusing on their historical significance. We all have realistics or goofies. Please bring your favorites to share. \n~12:00 p.m. Potluck Begins\nOSBS provides a meat entree and drinks. Members are encouraged to bring a potluck dish (entree\, salad\, vegetable\, fruit\, bread\, dessert\, etc.) and a smile. The Pavilion has space for preparation\, but not for cooking or oven warming. There are electrical plug-ins available so crockpots will work for warming. OSBS will provide paper plates and cups and disposable tableware. Feel free to bring your own re-usables to help out our environment. \n~ 1:00 p.m. – 3:00 p.m. Button Sales\nAny OSBS member is welcome to sell buttons. No fee for button sales at our annual picnic. We will be outside this year under a covered shaded pavilion. \nPlease join us for this annual event. \nDirections: From the north\, travel SOUTH on I-5 to Albany Exit 234B\, travel 3 stoplights to Dairy Queen & turn LEFT onto Waverly Drive\, follow Waverly for ~ 3 miles. Cross the railroad tracks and turn LEFT into Mennonite Village on 47th Street. Continue 2 blocks past Quail Run. Turn LEFT on Davidson Street. The Pavilion will be on the RIGHT. Park along Davidson. \nDirections: From the south\, travel NORTH on I-5\, take Exit 228. Turn onto Hwy-34 toward Corvallis. Travel ~ 1 mile. Turn RIGHT onto Columbus Street SE\, follow for ~ 2.8 miles. Columbus becomes Waverly. Continue past the first Mennonite Village entrance and turn RIGHT into the LAST entrance into Mennonite Village onto 47th Street (if you cross the railroad tracks\, you have gone too far). Continue 2 blocks past Quail Run. Turn LEFT on Davidson Street. The Pavilion will be on the RIGHT. Park along Davidson.
URL:https://wrba.us/event/oregon-button-picnic/
LOCATION:Mennonite Village Pavilion – Albany\, 5353 Columbus St SE\, Albany\, OR\, United States
ATTACH;FMTTYPE=image/jpeg:https://wrba.us/wp-content/uploads/2016/07/OSBSPicnic.jpg
ORGANIZER;CN="Oregon State Button Society":MAILTO:http://oregonbuttonsociety.org/contact.php
END:VEVENT
BEGIN:VEVENT
DTSTART;TZID=UTC:20151205T110000
DTEND;TZID=UTC:20151205T150000
DTSTAMP:20260419T215321
CREATED:20151120T055305Z
LAST-MODIFIED:20151120T055305Z
UID:10000032-1449313200-1449327600@wrba.us
SUMMARY:Portland Holiday Party
DESCRIPTION:Joint Holiday potluck party of Portland Button Club and Oregon City Button Club.
URL:https://wrba.us/event/portland-holiday-party/
LOCATION:Please Contact the Organizer\, Oregon City\, OR\, United States
ORGANIZER;CN="Oregon State Button Society":MAILTO:http://oregonbuttonsociety.org/contact.php
END:VEVENT
END:VCALENDAR