BEGIN:VCALENDAR
VERSION:2.0
PRODID:-//Western Regional Button Association - ECPv6.15.17.1//NONSGML v1.0//EN
CALSCALE:GREGORIAN
METHOD:PUBLISH
X-WR-CALNAME:Western Regional Button Association
X-ORIGINAL-URL:https://wrba.us
X-WR-CALDESC:Events for Western Regional Button Association
REFRESH-INTERVAL;VALUE=DURATION:PT1H
X-Robots-Tag:noindex
X-PUBLISHED-TTL:PT1H
BEGIN:VTIMEZONE
TZID:America/Los_Angeles
BEGIN:DAYLIGHT
TZOFFSETFROM:-0800
TZOFFSETTO:-0700
TZNAME:PDT
DTSTART:20210314T100000
END:DAYLIGHT
BEGIN:STANDARD
TZOFFSETFROM:-0700
TZOFFSETTO:-0800
TZNAME:PST
DTSTART:20211107T090000
END:STANDARD
BEGIN:DAYLIGHT
TZOFFSETFROM:-0800
TZOFFSETTO:-0700
TZNAME:PDT
DTSTART:20220313T100000
END:DAYLIGHT
BEGIN:STANDARD
TZOFFSETFROM:-0700
TZOFFSETTO:-0800
TZNAME:PST
DTSTART:20221106T090000
END:STANDARD
BEGIN:DAYLIGHT
TZOFFSETFROM:-0800
TZOFFSETTO:-0700
TZNAME:PDT
DTSTART:20230312T100000
END:DAYLIGHT
BEGIN:STANDARD
TZOFFSETFROM:-0700
TZOFFSETTO:-0800
TZNAME:PST
DTSTART:20231105T090000
END:STANDARD
BEGIN:DAYLIGHT
TZOFFSETFROM:-0800
TZOFFSETTO:-0700
TZNAME:PDT
DTSTART:20240310T100000
END:DAYLIGHT
BEGIN:STANDARD
TZOFFSETFROM:-0700
TZOFFSETTO:-0800
TZNAME:PST
DTSTART:20241103T090000
END:STANDARD
BEGIN:DAYLIGHT
TZOFFSETFROM:-0800
TZOFFSETTO:-0700
TZNAME:PDT
DTSTART:20250309T100000
END:DAYLIGHT
BEGIN:STANDARD
TZOFFSETFROM:-0700
TZOFFSETTO:-0800
TZNAME:PST
DTSTART:20251102T090000
END:STANDARD
BEGIN:DAYLIGHT
TZOFFSETFROM:-0800
TZOFFSETTO:-0700
TZNAME:PDT
DTSTART:20260308T100000
END:DAYLIGHT
BEGIN:STANDARD
TZOFFSETFROM:-0700
TZOFFSETTO:-0800
TZNAME:PST
DTSTART:20261101T090000
END:STANDARD
END:VTIMEZONE
BEGIN:VEVENT
DTSTART;VALUE=DATE:20250405
DTEND;VALUE=DATE:20250407
DTSTAMP:20260420T084302
CREATED:20241201T210707Z
LAST-MODIFIED:20241201T211112Z
UID:10000094-1743811200-1743983999@wrba.us
SUMMARY:Ohio Spring Show
DESCRIPTION:The Buckeye State Button Society and the Zane Trace Button Club invites you to enjoy “A Garden of Buttons” on April 5 & 6 at the Carlisle Inn\, Sugarcreek\, Ohio. Visit the state website for more details.
URL:https://wrba.us/event/ohio-spring-show/
LOCATION:The Carlisle Inn\, 1357 Old Route 39\, Sugarcreek\, OH\, United States
CATEGORIES:State Society Events
ATTACH;FMTTYPE=image/jpeg:https://wrba.us/wp-content/uploads/2024/12/Ohio-2025-Spring-Show-half-sheet-flyer-version-short-2.jpg
END:VEVENT
BEGIN:VEVENT
DTSTART;VALUE=DATE:20240406
DTEND;VALUE=DATE:20240408
DTSTAMP:20260420T084302
CREATED:20240224T195926Z
LAST-MODIFIED:20240224T195926Z
UID:10000079-1712361600-1712534399@wrba.us
SUMMARY:Ohio Button Show 2024
DESCRIPTION:THE BUCKEYE STATE BUTTON SOCIETY\nand\n The Central Ohio Button Collectors  \n     Invite You for Buttons\, Competition\, and Fun at\nthe 2024 Ohio Button Show in Columbus\, Ohio \nInspiration from The Masters:\nHow Famous Art Inspired Buttons. \nApril 5 – Judging\,\nApril 6-7 Show Room Open \nCrowne Plaza Columbus North\n6500 Doubletree Avenue\nColumbus\, Oh. 43229 \nRoom Rate: $140.00 until March 11\, 2024\nReservations: 614-885-1885 \n 
URL:https://wrba.us/event/ohio-button-show-2024/
LOCATION:CROWNE PLAZA COLUMBUS NORTH-WORTHINGTON\, 6500 Doubletree Ave\, Columbus\, OH\, 43229\, United States
ATTACH;FMTTYPE=image/png:https://wrba.us/wp-content/uploads/2023/01/Ohio-Buckeye-State-Button-Society-emblem-seal.png
END:VEVENT
BEGIN:VEVENT
DTSTART;VALUE=DATE:20220422
DTEND;VALUE=DATE:20220425
DTSTAMP:20260420T084302
CREATED:20220412T203615Z
LAST-MODIFIED:20220412T203227Z
UID:10000003-1650585600-1650844799@wrba.us
SUMMARY:A PASSION FOR FASHION
DESCRIPTION:The Buckeye State Button Society is thrilled to announce\nthe first Ohio show since 2019\,\n“A PASSION FOR FASHION”.\nIt has been a long dry spell and we are anxious to see our dealers\, our friends and many buttons. \nThe show will be held in Columbus\, April 22-24th.\nPlease consider joining us. \nFriday 4/22       Judging only \n\nSaturday 4/23  Showroom open 9AM-5PM\n               Competitive trays on display\n\n              Program at 7PM Todd Oldham's Flair Everywhere \n              presented by Marcella George\n\n              Silent Auction /Refreshments\n\nSunday 4/24     Showroom open 9:30AM- 2PM    Competitive trays on display \n                Competition review -1PM\n CROWNE PLAZA COLUMBUS NORTH-WORTHINGTON\n6500 Doubletree Ave. Columbus\, OH 43229 \n \n  \n 
URL:https://wrba.us/event/a-passion-for-fashion/
LOCATION:CROWNE PLAZA COLUMBUS NORTH-WORTHINGTON\, 6500 Doubletree Ave\, Columbus\, OH\, 43229\, United States
CATEGORIES:State Society Events
ATTACH;FMTTYPE=image/svg+xml:https://wrba.us/wp-content/uploads/2022/04/Flag_of_Ohio.svg
END:VEVENT
END:VCALENDAR