BEGIN:VCALENDAR
VERSION:2.0
PRODID:-//Western Regional Button Association - ECPv6.15.17.1//NONSGML v1.0//EN
CALSCALE:GREGORIAN
METHOD:PUBLISH
X-ORIGINAL-URL:https://wrba.us
X-WR-CALDESC:Events for Western Regional Button Association
REFRESH-INTERVAL;VALUE=DURATION:PT1H
X-Robots-Tag:noindex
X-PUBLISHED-TTL:PT1H
BEGIN:VTIMEZONE
TZID:America/Los_Angeles
BEGIN:DAYLIGHT
TZOFFSETFROM:-0800
TZOFFSETTO:-0700
TZNAME:PDT
DTSTART:20240310T100000
END:DAYLIGHT
BEGIN:STANDARD
TZOFFSETFROM:-0700
TZOFFSETTO:-0800
TZNAME:PST
DTSTART:20241103T090000
END:STANDARD
BEGIN:DAYLIGHT
TZOFFSETFROM:-0800
TZOFFSETTO:-0700
TZNAME:PDT
DTSTART:20250309T100000
END:DAYLIGHT
BEGIN:STANDARD
TZOFFSETFROM:-0700
TZOFFSETTO:-0800
TZNAME:PST
DTSTART:20251102T090000
END:STANDARD
BEGIN:DAYLIGHT
TZOFFSETFROM:-0800
TZOFFSETTO:-0700
TZNAME:PDT
DTSTART:20260308T100000
END:DAYLIGHT
BEGIN:STANDARD
TZOFFSETFROM:-0700
TZOFFSETTO:-0800
TZNAME:PST
DTSTART:20261101T090000
END:STANDARD
END:VTIMEZONE
BEGIN:VTIMEZONE
TZID:UTC
BEGIN:STANDARD
TZOFFSETFROM:+0000
TZOFFSETTO:+0000
TZNAME:UTC
DTSTART:20150101T000000
END:STANDARD
END:VTIMEZONE
BEGIN:VEVENT
DTSTART;VALUE=DATE:20250529
DTEND;VALUE=DATE:20250602
DTSTAMP:20260420T192210
CREATED:20250227T192604Z
LAST-MODIFIED:20250227T234240Z
UID:10000096-1748476800-1748822399@wrba.us
SUMMARY:'25 Cal Button Show
DESCRIPTION:Public welcome. Free entry on Sat. May 31 (a0 am – 5 pm) and Sun. June 1 (10 am – 3 pm). \nAntique\, vintage\, collectible\, studio & craft buttons\n18th C to modern buttons for sale.\nonly $104/night (+ tax) to stay at the venue hotel. Rate guaranteed to May 9\, 2025.\nmention block rate code: 052925BUT \nFor pre-registration form and more information\, visit the California State Button Society’s event page. \n 
URL:https://wrba.us/event/25-cal-button-show/
LOCATION:Wydham Hotel Visalia\, 9000 W. Airport Dr.\, Visalia\, CA\, 93277\, United States
CATEGORIES:State Society Events
ATTACH;FMTTYPE=image/png:https://wrba.us/wp-content/uploads/2025/02/2025-Cal-Show.png
END:VEVENT
BEGIN:VEVENT
DTSTART;TZID=UTC:20160521T100000
DTEND;TZID=UTC:20160522T150000
DTSTAMP:20260420T192210
CREATED:20160215T032231Z
LAST-MODIFIED:20160220T022632Z
UID:10000030-1463824800-1463929200@wrba.us
SUMMARY:California State Button Society 2016 Button Sale & Show
DESCRIPTION:Loading...\n						\n					\n					\n						\n							\n							Taking too long?\n						\n						\n							\n								 Reload document							\n							|\n							\n								 Open in new tab							\n					\n				\n			\n		Download
URL:https://wrba.us/event/california-state-button-society-2016-button-sale-show/
LOCATION:Crowne Plaza Hotel\, 5321 Date Avenue\, Sacramento\, CA\, 95841\, United States
CATEGORIES:State Society Events
ATTACH;FMTTYPE=image/png:https://wrba.us/wp-content/uploads/2016/02/event-cal-2016.png
END:VEVENT
END:VCALENDAR