BEGIN:VCALENDAR
VERSION:2.0
PRODID:-//Western Regional Button Association - ECPv6.15.17.1//NONSGML v1.0//EN
CALSCALE:GREGORIAN
METHOD:PUBLISH
X-ORIGINAL-URL:https://wrba.us
X-WR-CALDESC:Events for Western Regional Button Association
REFRESH-INTERVAL;VALUE=DURATION:PT1H
X-Robots-Tag:noindex
X-PUBLISHED-TTL:PT1H
BEGIN:VTIMEZONE
TZID:America/Los_Angeles
BEGIN:DAYLIGHT
TZOFFSETFROM:-0800
TZOFFSETTO:-0700
TZNAME:PDT
DTSTART:20230312T100000
END:DAYLIGHT
BEGIN:STANDARD
TZOFFSETFROM:-0700
TZOFFSETTO:-0800
TZNAME:PST
DTSTART:20231105T090000
END:STANDARD
BEGIN:DAYLIGHT
TZOFFSETFROM:-0800
TZOFFSETTO:-0700
TZNAME:PDT
DTSTART:20240310T100000
END:DAYLIGHT
BEGIN:STANDARD
TZOFFSETFROM:-0700
TZOFFSETTO:-0800
TZNAME:PST
DTSTART:20241103T090000
END:STANDARD
BEGIN:DAYLIGHT
TZOFFSETFROM:-0800
TZOFFSETTO:-0700
TZNAME:PDT
DTSTART:20250309T100000
END:DAYLIGHT
BEGIN:STANDARD
TZOFFSETFROM:-0700
TZOFFSETTO:-0800
TZNAME:PST
DTSTART:20251102T090000
END:STANDARD
END:VTIMEZONE
BEGIN:VTIMEZONE
TZID:America/Denver
BEGIN:DAYLIGHT
TZOFFSETFROM:-0700
TZOFFSETTO:-0600
TZNAME:MDT
DTSTART:20180311T090000
END:DAYLIGHT
BEGIN:STANDARD
TZOFFSETFROM:-0600
TZOFFSETTO:-0700
TZNAME:MST
DTSTART:20181104T080000
END:STANDARD
BEGIN:DAYLIGHT
TZOFFSETFROM:-0700
TZOFFSETTO:-0600
TZNAME:MDT
DTSTART:20190310T090000
END:DAYLIGHT
BEGIN:STANDARD
TZOFFSETFROM:-0600
TZOFFSETTO:-0700
TZNAME:MST
DTSTART:20191103T080000
END:STANDARD
BEGIN:DAYLIGHT
TZOFFSETFROM:-0700
TZOFFSETTO:-0600
TZNAME:MDT
DTSTART:20200308T090000
END:DAYLIGHT
BEGIN:STANDARD
TZOFFSETFROM:-0600
TZOFFSETTO:-0700
TZNAME:MST
DTSTART:20201101T080000
END:STANDARD
END:VTIMEZONE
BEGIN:VEVENT
DTSTART;VALUE=DATE:20240223
DTEND;VALUE=DATE:20240226
DTSTAMP:20260420T063758
CREATED:20240115T002701Z
LAST-MODIFIED:20240115T002701Z
UID:10000073-1708646400-1708905599@wrba.us
SUMMARY:Arizona Button Show
DESCRIPTION:Show Theme: Sumer in Paris “Olympics in 2024”
URL:https://wrba.us/event/arizona-button-show-2/
LOCATION:Avondale Hillton Garden Inn\, 11460 W. Hilton Way\, Avondale\, AZ\, 85323\, United States
CATEGORIES:State Society Events
ATTACH;FMTTYPE=image/png:https://wrba.us/wp-content/uploads/2024/01/Az2024.png
ORGANIZER;CN="Val Perry":MAILTO:perryva@gmail.com
END:VEVENT
BEGIN:VEVENT
DTSTART;VALUE=DATE:20190216
DTEND;VALUE=DATE:20190218
DTSTAMP:20260420T063758
CREATED:20181006T222029Z
LAST-MODIFIED:20181006T172906Z
UID:10000010-1550275200-1550447999@wrba.us
SUMMARY:Arizona Button Show
DESCRIPTION:“WILD WEST ROUNDUP” button show
URL:https://wrba.us/event/arizona-button-show/
LOCATION:Avondale Hillton Garden Inn\, 11460 W. Hilton Way\, Avondale\, AZ\, 85323\, United States
CATEGORIES:State Society Events
ORGANIZER;CN="Nancy Craig":MAILTO:Btnizdncy@gmail.com
END:VEVENT
END:VCALENDAR