BEGIN:VCALENDAR
VERSION:2.0
PRODID:-//Western Regional Button Association - ECPv6.15.17.1//NONSGML v1.0//EN
CALSCALE:GREGORIAN
METHOD:PUBLISH
X-WR-CALNAME:Western Regional Button Association
X-ORIGINAL-URL:https://wrba.us
X-WR-CALDESC:Events for Western Regional Button Association
REFRESH-INTERVAL;VALUE=DURATION:PT1H
X-Robots-Tag:noindex
X-PUBLISHED-TTL:PT1H
BEGIN:VTIMEZONE
TZID:America/Los_Angeles
BEGIN:DAYLIGHT
TZOFFSETFROM:-0800
TZOFFSETTO:-0700
TZNAME:PDT
DTSTART:20210314T100000
END:DAYLIGHT
BEGIN:STANDARD
TZOFFSETFROM:-0700
TZOFFSETTO:-0800
TZNAME:PST
DTSTART:20211107T090000
END:STANDARD
BEGIN:DAYLIGHT
TZOFFSETFROM:-0800
TZOFFSETTO:-0700
TZNAME:PDT
DTSTART:20220313T100000
END:DAYLIGHT
BEGIN:STANDARD
TZOFFSETFROM:-0700
TZOFFSETTO:-0800
TZNAME:PST
DTSTART:20221106T090000
END:STANDARD
BEGIN:DAYLIGHT
TZOFFSETFROM:-0800
TZOFFSETTO:-0700
TZNAME:PDT
DTSTART:20230312T100000
END:DAYLIGHT
BEGIN:STANDARD
TZOFFSETFROM:-0700
TZOFFSETTO:-0800
TZNAME:PST
DTSTART:20231105T090000
END:STANDARD
BEGIN:DAYLIGHT
TZOFFSETFROM:-0800
TZOFFSETTO:-0700
TZNAME:PDT
DTSTART:20240310T100000
END:DAYLIGHT
BEGIN:STANDARD
TZOFFSETFROM:-0700
TZOFFSETTO:-0800
TZNAME:PST
DTSTART:20241103T090000
END:STANDARD
BEGIN:DAYLIGHT
TZOFFSETFROM:-0800
TZOFFSETTO:-0700
TZNAME:PDT
DTSTART:20250309T100000
END:DAYLIGHT
BEGIN:STANDARD
TZOFFSETFROM:-0700
TZOFFSETTO:-0800
TZNAME:PST
DTSTART:20251102T090000
END:STANDARD
END:VTIMEZONE
BEGIN:VEVENT
DTSTART;VALUE=DATE:20240605
DTEND;VALUE=DATE:20240609
DTSTAMP:20260420T172136
CREATED:20240220T170901Z
LAST-MODIFIED:20240429T194205Z
UID:10000076-1717545600-1717891199@wrba.us
SUMMARY:Idaho Button Show
DESCRIPTION:2024 Idaho Button Show registration form
URL:https://wrba.us/event/idaho-button-show/
LOCATION:Cloverdale Church of God\, 3755 S Cloverdale Rd\, Boise\, ID\, 83709\, United States
ATTACH;FMTTYPE=image/png:https://wrba.us/wp-content/uploads/2024/01/Screenshot-2024-01-22-120908.png
END:VEVENT
BEGIN:VEVENT
DTSTART;VALUE=DATE:20220930
DTEND;VALUE=DATE:20221002
DTSTAMP:20260420T172136
CREATED:20220822T180552Z
LAST-MODIFIED:20220830T173658Z
UID:10000007-1664496000-1664668799@wrba.us
SUMMARY:Idaho Fall Button Fling
DESCRIPTION:
URL:https://wrba.us/event/idaho-fall-button-fling/
LOCATION:Cloverdale Church of God\, 3755 S Cloverdale Rd\, Boise\, ID\, 83709\, United States
CATEGORIES:State Society Events
ATTACH;FMTTYPE=image/jpeg:https://wrba.us/wp-content/uploads/2022/08/Fall-Fling-Invite.jpg
END:VEVENT
END:VCALENDAR