BEGIN:VCALENDAR
VERSION:2.0
PRODID:-//Western Regional Button Association - ECPv6.15.17.1//NONSGML v1.0//EN
CALSCALE:GREGORIAN
METHOD:PUBLISH
X-WR-CALNAME:Western Regional Button Association
X-ORIGINAL-URL:https://wrba.us
X-WR-CALDESC:Events for Western Regional Button Association
REFRESH-INTERVAL;VALUE=DURATION:PT1H
X-Robots-Tag:noindex
X-PUBLISHED-TTL:PT1H
BEGIN:VTIMEZONE
TZID:America/Denver
BEGIN:DAYLIGHT
TZOFFSETFROM:-0700
TZOFFSETTO:-0600
TZNAME:MDT
DTSTART:20190310T090000
END:DAYLIGHT
BEGIN:STANDARD
TZOFFSETFROM:-0600
TZOFFSETTO:-0700
TZNAME:MST
DTSTART:20191103T080000
END:STANDARD
BEGIN:DAYLIGHT
TZOFFSETFROM:-0700
TZOFFSETTO:-0600
TZNAME:MDT
DTSTART:20200308T090000
END:DAYLIGHT
BEGIN:STANDARD
TZOFFSETFROM:-0600
TZOFFSETTO:-0700
TZNAME:MST
DTSTART:20201101T080000
END:STANDARD
BEGIN:DAYLIGHT
TZOFFSETFROM:-0700
TZOFFSETTO:-0600
TZNAME:MDT
DTSTART:20210314T090000
END:DAYLIGHT
BEGIN:STANDARD
TZOFFSETFROM:-0600
TZOFFSETTO:-0700
TZNAME:MST
DTSTART:20211107T080000
END:STANDARD
END:VTIMEZONE
BEGIN:VEVENT
DTSTART;VALUE=DATE:20200314
DTEND;VALUE=DATE:20200315
DTSTAMP:20260419T230540
CREATED:20200109T025436Z
LAST-MODIFIED:20200109T031238Z
UID:10000047-1584144000-1584230399@wrba.us
SUMMARY:OSBS Spring Workshop 2020
DESCRIPTION:When:    Saturday\, March 14\, 2020\nRegister by Friday\, March 6\, 2020\nClick here for the Registration Form \n\n\n\nWhere:\nComfort Suites Salem NEW LOCATION! \n630 Hawthorne SE  \nSalem\, OR 97301 \nLocated right off I-5 at the Mission Street Exit that leads to Costco. Vendors access from the front of the hotel.  \n\n\nTime:\n9:30 a.m.       Gathering time\, coffee \n10:00 a.m.     Committee Show Reports\, Announcements \n10:45 a.m.     Presentation: Sandi Olson- Collecting Buttons          from Around the World \n12:00 pm       Lunch & Button Sales\, (Roast Turkey\, Mashed                                                                              Potatoes & Gravy\, Green Beans) \n2:30 p.m.       OSBS Short Board Meeting\n\n\n\n \n			\n				\n					\n						\n							\n							Loading...\n						\n					\n					\n						\n							\n							Taking too long?\n						\n						\n							\n								 Reload document							\n							|\n							\n								 Open in new tab							\n					\n				\n			\n		Download
URL:https://wrba.us/event/osbs-spring-workshop-2020/
LOCATION:Comfort Suites\, Salem\, 630 Hawthorne SE\, Salem\, OR\, 97301\, United States
ATTACH;FMTTYPE=image/png:https://wrba.us/wp-content/uploads/2020/01/3-button-color-logo-OSBS.png
END:VEVENT
END:VCALENDAR