BEGIN:VCALENDAR
VERSION:2.0
PRODID:-//Western Regional Button Association - ECPv6.15.17.1//NONSGML v1.0//EN
CALSCALE:GREGORIAN
METHOD:PUBLISH
X-ORIGINAL-URL:https://wrba.us
X-WR-CALDESC:Events for Western Regional Button Association
REFRESH-INTERVAL;VALUE=DURATION:PT1H
X-Robots-Tag:noindex
X-PUBLISHED-TTL:PT1H
BEGIN:VTIMEZONE
TZID:America/Los_Angeles
BEGIN:DAYLIGHT
TZOFFSETFROM:-0800
TZOFFSETTO:-0700
TZNAME:PDT
DTSTART:20210314T100000
END:DAYLIGHT
BEGIN:STANDARD
TZOFFSETFROM:-0700
TZOFFSETTO:-0800
TZNAME:PST
DTSTART:20211107T090000
END:STANDARD
BEGIN:DAYLIGHT
TZOFFSETFROM:-0800
TZOFFSETTO:-0700
TZNAME:PDT
DTSTART:20220313T100000
END:DAYLIGHT
BEGIN:STANDARD
TZOFFSETFROM:-0700
TZOFFSETTO:-0800
TZNAME:PST
DTSTART:20221106T090000
END:STANDARD
BEGIN:DAYLIGHT
TZOFFSETFROM:-0800
TZOFFSETTO:-0700
TZNAME:PDT
DTSTART:20230312T100000
END:DAYLIGHT
BEGIN:STANDARD
TZOFFSETFROM:-0700
TZOFFSETTO:-0800
TZNAME:PST
DTSTART:20231105T090000
END:STANDARD
END:VTIMEZONE
BEGIN:VEVENT
DTSTART;TZID=America/Los_Angeles:20220611T093000
DTEND;TZID=America/Los_Angeles:20220611T163000
DTSTAMP:20260420T052028
CREATED:20220412T175222Z
LAST-MODIFIED:20220412T180304Z
UID:10000002-1654939800-1654965000@wrba.us
SUMMARY:Button Expo4
DESCRIPTION:
URL:https://wrba.us/event/button-expo4/
LOCATION:Commonwealth Commerce Center\, 209 East Washington St.\, Jackson\, MI\, 49201\, United States
CATEGORIES:State Society Events,Local Club Meetups
ATTACH;FMTTYPE=image/png:https://wrba.us/wp-content/uploads/2022/04/Button-Expo4-Top.png
END:VEVENT
END:VCALENDAR