BEGIN:VCALENDAR
VERSION:2.0
PRODID:-//Western Regional Button Association - ECPv6.15.17.1//NONSGML v1.0//EN
CALSCALE:GREGORIAN
METHOD:PUBLISH
X-ORIGINAL-URL:https://wrba.us
X-WR-CALDESC:Events for Western Regional Button Association
REFRESH-INTERVAL;VALUE=DURATION:PT1H
X-Robots-Tag:noindex
X-PUBLISHED-TTL:PT1H
BEGIN:VTIMEZONE
TZID:America/Los_Angeles
BEGIN:DAYLIGHT
TZOFFSETFROM:-0800
TZOFFSETTO:-0700
TZNAME:PDT
DTSTART:20240310T100000
END:DAYLIGHT
BEGIN:STANDARD
TZOFFSETFROM:-0700
TZOFFSETTO:-0800
TZNAME:PST
DTSTART:20241103T090000
END:STANDARD
BEGIN:DAYLIGHT
TZOFFSETFROM:-0800
TZOFFSETTO:-0700
TZNAME:PDT
DTSTART:20250309T100000
END:DAYLIGHT
BEGIN:STANDARD
TZOFFSETFROM:-0700
TZOFFSETTO:-0800
TZNAME:PST
DTSTART:20251102T090000
END:STANDARD
BEGIN:DAYLIGHT
TZOFFSETFROM:-0800
TZOFFSETTO:-0700
TZNAME:PDT
DTSTART:20260308T100000
END:DAYLIGHT
BEGIN:STANDARD
TZOFFSETFROM:-0700
TZOFFSETTO:-0800
TZNAME:PST
DTSTART:20261101T090000
END:STANDARD
END:VTIMEZONE
BEGIN:VEVENT
DTSTART;VALUE=DATE:20250803
DTEND;VALUE=DATE:20250810
DTSTAMP:20260421T114126
CREATED:20250609T233743Z
LAST-MODIFIED:20250609T233743Z
UID:10000100-1754179200-1754783999@wrba.us
SUMMARY:2025 National Button Society Convention
DESCRIPTION:For more information\, visit the National Button Society’s event page. \n 
URL:https://wrba.us/event/2025-national-button-society-convention/
LOCATION:Crowne Plaza Springfield IL\, 3000 South Dirkson Parkway\, Springfield\, IL\, 62703\, United States
ATTACH;FMTTYPE=image/jpeg:https://wrba.us/wp-content/uploads/2025/06/NBS-Annual-Convention-2025-top.jpg
END:VEVENT
END:VCALENDAR