BEGIN:VCALENDAR
VERSION:2.0
PRODID:-//Western Regional Button Association - ECPv6.15.17.1//NONSGML v1.0//EN
CALSCALE:GREGORIAN
METHOD:PUBLISH
X-WR-CALNAME:Western Regional Button Association
X-ORIGINAL-URL:https://wrba.us
X-WR-CALDESC:Events for Western Regional Button Association
REFRESH-INTERVAL;VALUE=DURATION:PT1H
X-Robots-Tag:noindex
X-PUBLISHED-TTL:PT1H
BEGIN:VTIMEZONE
TZID:America/Los_Angeles
BEGIN:DAYLIGHT
TZOFFSETFROM:-0800
TZOFFSETTO:-0700
TZNAME:PDT
DTSTART:20220313T100000
END:DAYLIGHT
BEGIN:STANDARD
TZOFFSETFROM:-0700
TZOFFSETTO:-0800
TZNAME:PST
DTSTART:20221106T090000
END:STANDARD
BEGIN:DAYLIGHT
TZOFFSETFROM:-0800
TZOFFSETTO:-0700
TZNAME:PDT
DTSTART:20230312T100000
END:DAYLIGHT
BEGIN:STANDARD
TZOFFSETFROM:-0700
TZOFFSETTO:-0800
TZNAME:PST
DTSTART:20231105T090000
END:STANDARD
BEGIN:DAYLIGHT
TZOFFSETFROM:-0800
TZOFFSETTO:-0700
TZNAME:PDT
DTSTART:20240310T100000
END:DAYLIGHT
BEGIN:STANDARD
TZOFFSETFROM:-0700
TZOFFSETTO:-0800
TZNAME:PST
DTSTART:20241103T090000
END:STANDARD
END:VTIMEZONE
BEGIN:VEVENT
DTSTART;VALUE=DATE:20230309
DTEND;VALUE=DATE:20230312
DTSTAMP:20260423T014841
CREATED:20230112T220443Z
LAST-MODIFIED:20230827T205259Z
UID:10000067-1678320000-1678579199@wrba.us
SUMMARY:Down the Rabbit Hole with Buttons
DESCRIPTION:THE 2023 81st ANNUAL INDIANA STATE BUTTON SHOW & COMPETITION \n The Show will be held at\nthe Essenhaus Conference Center and Inn\,\n240 US 20\, Middlebury\, IN. \n Thursday\, March 9 – 4:00-6:00 P.M.\nFriday\, March 10 – 1:00-5:00 P.M.\nSaturday\, March 11 – 9:00 A.M. – 3:00 P.M.  \nTheme:  “Down the Rabbit Hole with Buttons”\n PUBLIC WELCOME – $5 (children 17 and under free) \n \nClothing button enthusiasts and collectors from all over Indiana and Michiana will hold a three-day Indiana State Button Society Show at the beautiful Essenhaus Conference Center in Middlebury.  Anyone who has an interest in buttons is invited to attend this large event\, and there will be button dealers from various states offering beautiful buttons for sale.  Twenty-three competition awards will be judged on Friday morning and displayed on Friday and Saturday\, and raffle tickets will be offered for items donated by dealers and other members.  \nIndiana has four button clubs open to the public: The “Button Keepers Club” in Nappanee\, the “Classic City Button Club” in Auburn\, the Indianapolis Button Club\, and the Wabash Valley Button Club in Terre Haute.  If you’re interested in learning more about clothing buttons\, feel free to contact one of our members above. Various members in the local clubs give educational programs on Art\, History\, Culture\, Fashion\, Politics\, Military\, Religion\, and Materials such a Mother-of-Pearl\, Beautiful Glass\, Horn\, Bone\, Enamel\, Porcelain\, Metals\, Bakelite\, China\, etc.  At the shows\, there are banquets\, programs\, and sometimes entertainment. \n \nClick to view the list of awards on the Indiana State Button Society’s website. \n  \n 
URL:https://wrba.us/event/down-the-rabbit-hole-with-buttons/
LOCATION:Essenhaus Inn\, 240 US 20\, Middlebury\, IN\, 46540\, United States
CATEGORIES:State Society Events
ATTACH;FMTTYPE=image/png:https://wrba.us/wp-content/uploads/2023/01/indiana-23-show-cover.png
END:VEVENT
END:VCALENDAR