BEGIN:VCALENDAR
VERSION:2.0
PRODID:-//Western Regional Button Association - ECPv6.15.17.1//NONSGML v1.0//EN
CALSCALE:GREGORIAN
METHOD:PUBLISH
X-ORIGINAL-URL:https://wrba.us
X-WR-CALDESC:Events for Western Regional Button Association
REFRESH-INTERVAL;VALUE=DURATION:PT1H
X-Robots-Tag:noindex
X-PUBLISHED-TTL:PT1H
BEGIN:VTIMEZONE
TZID:America/Denver
BEGIN:DAYLIGHT
TZOFFSETFROM:-0700
TZOFFSETTO:-0600
TZNAME:MDT
DTSTART:20190310T090000
END:DAYLIGHT
BEGIN:STANDARD
TZOFFSETFROM:-0600
TZOFFSETTO:-0700
TZNAME:MST
DTSTART:20191103T080000
END:STANDARD
BEGIN:DAYLIGHT
TZOFFSETFROM:-0700
TZOFFSETTO:-0600
TZNAME:MDT
DTSTART:20200308T090000
END:DAYLIGHT
BEGIN:STANDARD
TZOFFSETFROM:-0600
TZOFFSETTO:-0700
TZNAME:MST
DTSTART:20201101T080000
END:STANDARD
BEGIN:DAYLIGHT
TZOFFSETFROM:-0700
TZOFFSETTO:-0600
TZNAME:MDT
DTSTART:20210314T090000
END:DAYLIGHT
BEGIN:STANDARD
TZOFFSETFROM:-0600
TZOFFSETTO:-0700
TZNAME:MST
DTSTART:20211107T080000
END:STANDARD
END:VTIMEZONE
BEGIN:VEVENT
DTSTART;TZID=America/Denver:20200125T090000
DTEND;TZID=America/Denver:20200125T150000
DTSTAMP:20260420T012353
CREATED:20200109T230531Z
LAST-MODIFIED:20210907T155155Z
UID:10000024-1579942800-1579964400@wrba.us
SUMMARY:Southern California Winter Regional Button Show
DESCRIPTION:The Southern California Winter Regional Button Show will be held \nat the First Baptist Church of San Diego\,\n5055 Governor Dr\, San Diego CA 92122.\nShowroom hours:  Sat 9AM-3PM. \nContacts: Susan Porter\, Carole Sobke\, or send an inquiry using the form on the bottom of this page.\nFor details\, visit www.cabutton.org.
URL:https://wrba.us/event/southern-california-winter-regional-button-show/
LOCATION:First Baptist Church of San Diego\,\, 5055 Governor Dr\,\, San Diego\, CA\, 92122\, United States
CATEGORIES:Local Club Meetups
ATTACH;FMTTYPE=image/png:https://wrba.us/wp-content/uploads/2020/01/SoCalButtonBazaar2020-feature.png
END:VEVENT
END:VCALENDAR