BEGIN:VCALENDAR
VERSION:2.0
PRODID:-//Western Regional Button Association - ECPv6.15.17.1//NONSGML v1.0//EN
CALSCALE:GREGORIAN
METHOD:PUBLISH
X-ORIGINAL-URL:https://wrba.us
X-WR-CALDESC:Events for Western Regional Button Association
REFRESH-INTERVAL;VALUE=DURATION:PT1H
X-Robots-Tag:noindex
X-PUBLISHED-TTL:PT1H
BEGIN:VTIMEZONE
TZID:America/Denver
BEGIN:DAYLIGHT
TZOFFSETFROM:-0700
TZOFFSETTO:-0600
TZNAME:MDT
DTSTART:20160313T090000
END:DAYLIGHT
BEGIN:STANDARD
TZOFFSETFROM:-0600
TZOFFSETTO:-0700
TZNAME:MST
DTSTART:20161106T080000
END:STANDARD
BEGIN:DAYLIGHT
TZOFFSETFROM:-0700
TZOFFSETTO:-0600
TZNAME:MDT
DTSTART:20170312T090000
END:DAYLIGHT
BEGIN:STANDARD
TZOFFSETFROM:-0600
TZOFFSETTO:-0700
TZNAME:MST
DTSTART:20171105T080000
END:STANDARD
BEGIN:DAYLIGHT
TZOFFSETFROM:-0700
TZOFFSETTO:-0600
TZNAME:MDT
DTSTART:20180311T090000
END:DAYLIGHT
BEGIN:STANDARD
TZOFFSETFROM:-0600
TZOFFSETTO:-0700
TZNAME:MST
DTSTART:20181104T080000
END:STANDARD
BEGIN:DAYLIGHT
TZOFFSETFROM:-0700
TZOFFSETTO:-0600
TZNAME:MDT
DTSTART:20190310T090000
END:DAYLIGHT
BEGIN:STANDARD
TZOFFSETFROM:-0600
TZOFFSETTO:-0700
TZNAME:MST
DTSTART:20191103T080000
END:STANDARD
END:VTIMEZONE
BEGIN:VEVENT
DTSTART;VALUE=DATE:20181006
DTEND;VALUE=DATE:20181007
DTSTAMP:20260419T235237
CREATED:20181006T184659Z
LAST-MODIFIED:20181006T184659Z
UID:10000011-1538784000-1538870399@wrba.us
SUMMARY:2018 WRBA SHOW
DESCRIPTION:HAPPENING RIGHT NOW\, till 3 pm in Reno\, at Harrah’s convention center on the 3rd floor!
URL:https://wrba.us/event/2018-wrba-show/
LOCATION:Harrah’s Hotel and Casino\, 219 N. Center St\, Reno\, NV\, United States
CATEGORIES:State Society Events
ATTACH;FMTTYPE=image/jpeg:https://wrba.us/wp-content/uploads/2018/10/B5CC6396-C7B9-4119-B17F-66BC86B88110.jpeg
END:VEVENT
BEGIN:VEVENT
DTSTART;VALUE=DATE:20171004
DTEND;VALUE=DATE:20171008
DTSTAMP:20260419T235237
CREATED:20160708T060612Z
LAST-MODIFIED:20171009T220709Z
UID:10000034-1507075200-1507420799@wrba.us
SUMMARY:2017 WRBA Button Show
DESCRIPTION:Gallery Plugin
URL:https://wrba.us/event/2017-wrba-show/
LOCATION:Harrah’s Hotel and Casino\, 219 N. Center St\, Reno\, NV\, United States
ATTACH;FMTTYPE=image/jpeg:https://wrba.us/wp-content/uploads/2017/10/favor-button-2017.jpg
END:VEVENT
END:VCALENDAR