BEGIN:VCALENDAR
VERSION:2.0
PRODID:-//Western Regional Button Association - ECPv6.15.17.1//NONSGML v1.0//EN
CALSCALE:GREGORIAN
METHOD:PUBLISH
X-ORIGINAL-URL:https://wrba.us
X-WR-CALDESC:Events for Western Regional Button Association
REFRESH-INTERVAL;VALUE=DURATION:PT1H
X-Robots-Tag:noindex
X-PUBLISHED-TTL:PT1H
BEGIN:VTIMEZONE
TZID:America/Los_Angeles
BEGIN:DAYLIGHT
TZOFFSETFROM:-0800
TZOFFSETTO:-0700
TZNAME:PDT
DTSTART:20220313T100000
END:DAYLIGHT
BEGIN:STANDARD
TZOFFSETFROM:-0700
TZOFFSETTO:-0800
TZNAME:PST
DTSTART:20221106T090000
END:STANDARD
BEGIN:DAYLIGHT
TZOFFSETFROM:-0800
TZOFFSETTO:-0700
TZNAME:PDT
DTSTART:20230312T100000
END:DAYLIGHT
BEGIN:STANDARD
TZOFFSETFROM:-0700
TZOFFSETTO:-0800
TZNAME:PST
DTSTART:20231105T090000
END:STANDARD
BEGIN:DAYLIGHT
TZOFFSETFROM:-0800
TZOFFSETTO:-0700
TZNAME:PDT
DTSTART:20240310T100000
END:DAYLIGHT
BEGIN:STANDARD
TZOFFSETFROM:-0700
TZOFFSETTO:-0800
TZNAME:PST
DTSTART:20241103T090000
END:STANDARD
END:VTIMEZONE
BEGIN:VEVENT
DTSTART;VALUE=DATE:20230401
DTEND;VALUE=DATE:20230403
DTSTAMP:20260422T014215
CREATED:20230109T043343Z
LAST-MODIFIED:20230827T205235Z
UID:10000066-1680307200-1680479999@wrba.us
SUMMARY:Heavenly Buttons
DESCRIPTION:Visit the Buckeye State Button Society website for the Ohio 2023 Awards.\n \n  \n  \n 
URL:https://wrba.us/event/heavenly-buttons/
LOCATION:Hilton Akron\, 3180 West Market Street\, Akron\, OH\, 44333\, United States
CATEGORIES:State Society Events
ATTACH;FMTTYPE=image/png:https://wrba.us/wp-content/uploads/2023/01/Ohio-Spring-SHow-2023.png
ORGANIZER;CN="Helen Richwine":MAILTO:hlrichwine@neo.rr.com
END:VEVENT
END:VCALENDAR