BEGIN:VCALENDAR
VERSION:2.0
PRODID:-//Western Regional Button Association - ECPv6.15.17.1//NONSGML v1.0//EN
CALSCALE:GREGORIAN
METHOD:PUBLISH
X-ORIGINAL-URL:https://wrba.us
X-WR-CALDESC:Events for Western Regional Button Association
REFRESH-INTERVAL;VALUE=DURATION:PT1H
X-Robots-Tag:noindex
X-PUBLISHED-TTL:PT1H
BEGIN:VTIMEZONE
TZID:America/Los_Angeles
BEGIN:DAYLIGHT
TZOFFSETFROM:-0800
TZOFFSETTO:-0700
TZNAME:PDT
DTSTART:20240310T100000
END:DAYLIGHT
BEGIN:STANDARD
TZOFFSETFROM:-0700
TZOFFSETTO:-0800
TZNAME:PST
DTSTART:20241103T090000
END:STANDARD
BEGIN:DAYLIGHT
TZOFFSETFROM:-0800
TZOFFSETTO:-0700
TZNAME:PDT
DTSTART:20250309T100000
END:DAYLIGHT
BEGIN:STANDARD
TZOFFSETFROM:-0700
TZOFFSETTO:-0800
TZNAME:PST
DTSTART:20251102T090000
END:STANDARD
BEGIN:DAYLIGHT
TZOFFSETFROM:-0800
TZOFFSETTO:-0700
TZNAME:PDT
DTSTART:20260308T100000
END:DAYLIGHT
BEGIN:STANDARD
TZOFFSETFROM:-0700
TZOFFSETTO:-0800
TZNAME:PST
DTSTART:20261101T090000
END:STANDARD
END:VTIMEZONE
BEGIN:VEVENT
DTSTART;VALUE=DATE:20250426
DTEND;VALUE=DATE:20250428
DTSTAMP:20260421T063218
CREATED:20250403T013028Z
LAST-MODIFIED:20250403T013202Z
UID:10000099-1745625600-1745798399@wrba.us
SUMMARY:Texas Button Show '25
DESCRIPTION:Open to public: April 26 (Saturday) – April 27 (Sunday) \nAdmission $5 \n“Once Upon a Time … on a Button”\nFor more details\, visit Texas State Button Society’s website. \nSaturday\, April 26 \n8:00 AM – 9: 30 AM: Executive Board Meeting\n9:30 AM – 5:00 PM: Showroom open to public\n11:00 AM – 12:00 PM: Children’s story hour. Read aloud of “The Button Box” with Activity\n7:30 PM to 8:30 PM: Program “Once Upon  a Time … on a Button“\, by Lynda Gaetano. Dress up as a storybook character! Prizes! \nSunday\, April 27 \n8:00 AM – 9:30 AM: Awards Breakfast\, Membership Meeting and Favor Button presentation\n9:30 AM – 2:00 PM Showroom open to public\n1:00 PM: Silent auction and raffle close\n2:00 PM: Tray Checkout\n3:00 PM: Show close \nHost by Austin Button Club
URL:https://wrba.us/event/texas-button-show-25/
LOCATION:Hilton Garden Inn\, Temple\, 1749 Scott Blvd\, Temple\, Texas\, 765045\, United States
ATTACH;FMTTYPE=image/png:https://wrba.us/wp-content/uploads/2025/04/TSBS_2025_Spring_show_ads-1024x640-1.png
END:VEVENT
END:VCALENDAR