BEGIN:VCALENDAR
VERSION:2.0
PRODID:-//Western Regional Button Association - ECPv6.15.17.1//NONSGML v1.0//EN
CALSCALE:GREGORIAN
METHOD:PUBLISH
X-ORIGINAL-URL:https://wrba.us
X-WR-CALDESC:Events for Western Regional Button Association
REFRESH-INTERVAL;VALUE=DURATION:PT1H
X-Robots-Tag:noindex
X-PUBLISHED-TTL:PT1H
BEGIN:VTIMEZONE
TZID:America/Denver
BEGIN:DAYLIGHT
TZOFFSETFROM:-0700
TZOFFSETTO:-0600
TZNAME:MDT
DTSTART:20160313T090000
END:DAYLIGHT
BEGIN:STANDARD
TZOFFSETFROM:-0600
TZOFFSETTO:-0700
TZNAME:MST
DTSTART:20161106T080000
END:STANDARD
BEGIN:DAYLIGHT
TZOFFSETFROM:-0700
TZOFFSETTO:-0600
TZNAME:MDT
DTSTART:20170312T090000
END:DAYLIGHT
BEGIN:STANDARD
TZOFFSETFROM:-0600
TZOFFSETTO:-0700
TZNAME:MST
DTSTART:20171105T080000
END:STANDARD
BEGIN:DAYLIGHT
TZOFFSETFROM:-0700
TZOFFSETTO:-0600
TZNAME:MDT
DTSTART:20180311T090000
END:DAYLIGHT
BEGIN:STANDARD
TZOFFSETFROM:-0600
TZOFFSETTO:-0700
TZNAME:MST
DTSTART:20181104T080000
END:STANDARD
END:VTIMEZONE
BEGIN:VEVENT
DTSTART;VALUE=DATE:20170807
DTEND;VALUE=DATE:20170813
DTSTAMP:20260420T080623
CREATED:20161113T194403Z
LAST-MODIFIED:20170720T040125Z
UID:10000021-1502064000-1502582399@wrba.us
SUMMARY:2017 NATIONAL BUTTON SOCIETY ANNUAL CONVENTION
DESCRIPTION:When:    August 10-12\, 2017    “THE MAGIC OF BUTTONS”\nWhere:    Radisson Paper Valley Hotel\,  Appleton WI\nFor more info visit: www.nationalbuttonsociety.org  or https://www.facebook.com/NationalButtonSociety/ \nPublic showroom hours: \n10am-5pm Thursday and Friday 8/10-11\, 2017\n10am-3pm on Saturday 8/12
URL:https://wrba.us/event/2017-national-button-society-annual-convention/
LOCATION:Radisson Paper Valley Hotel\, 333 W College Ave\, Appleton\, WI\, 54911\, Wallis And Futuna Islands
ATTACH;FMTTYPE=image/jpeg:https://wrba.us/wp-content/uploads/2016/11/2017-NBS-postcard-image.jpg
END:VEVENT
END:VCALENDAR