BEGIN:VCALENDAR
VERSION:2.0
PRODID:-//Western Regional Button Association - ECPv6.15.17.1//NONSGML v1.0//EN
CALSCALE:GREGORIAN
METHOD:PUBLISH
X-ORIGINAL-URL:https://wrba.us
X-WR-CALDESC:Events for Western Regional Button Association
REFRESH-INTERVAL;VALUE=DURATION:PT1H
X-Robots-Tag:noindex
X-PUBLISHED-TTL:PT1H
BEGIN:VTIMEZONE
TZID:America/Los_Angeles
BEGIN:DAYLIGHT
TZOFFSETFROM:-0800
TZOFFSETTO:-0700
TZNAME:PDT
DTSTART:20240310T100000
END:DAYLIGHT
BEGIN:STANDARD
TZOFFSETFROM:-0700
TZOFFSETTO:-0800
TZNAME:PST
DTSTART:20241103T090000
END:STANDARD
BEGIN:DAYLIGHT
TZOFFSETFROM:-0800
TZOFFSETTO:-0700
TZNAME:PDT
DTSTART:20250309T100000
END:DAYLIGHT
BEGIN:STANDARD
TZOFFSETFROM:-0700
TZOFFSETTO:-0800
TZNAME:PST
DTSTART:20251102T090000
END:STANDARD
BEGIN:DAYLIGHT
TZOFFSETFROM:-0800
TZOFFSETTO:-0700
TZNAME:PDT
DTSTART:20260308T100000
END:DAYLIGHT
BEGIN:STANDARD
TZOFFSETFROM:-0700
TZOFFSETTO:-0800
TZNAME:PST
DTSTART:20261101T090000
END:STANDARD
END:VTIMEZONE
BEGIN:VEVENT
DTSTART;VALUE=DATE:20250604
DTEND;VALUE=DATE:20250608
DTSTAMP:20260421T082539
CREATED:20240901T003410Z
LAST-MODIFIED:20250412T012452Z
UID:10000089-1748995200-1749340799@wrba.us
SUMMARY:2025 Idaho 50th Anniversary Show
DESCRIPTION:Join us for the 50th Anniversary Show of the Idaho State button Society \n“Idaho is Golden” is the show theme.\n  \nPrint and mail this registration form\n  \n 
URL:https://wrba.us/event/2025-idaho-50th-anniversary-show/
LOCATION:Red Lion Hotel Templin’s on the River\, 414 E 1st Ave\, Post Falls\, ID\, 83854\, United States
CATEGORIES:State Society Events
ATTACH;FMTTYPE=image/png:https://wrba.us/wp-content/uploads/2024/08/2025-Idaho-Show.png
ORGANIZER;CN="Linda Hudec":MAILTO:historicalbuttonclub@gmail.com
END:VEVENT
END:VCALENDAR