BEGIN:VCALENDAR
VERSION:2.0
PRODID:-//Western Regional Button Association - ECPv6.15.17.1//NONSGML v1.0//EN
CALSCALE:GREGORIAN
METHOD:PUBLISH
X-WR-CALNAME:Western Regional Button Association
X-ORIGINAL-URL:https://wrba.us
X-WR-CALDESC:Events for Western Regional Button Association
REFRESH-INTERVAL;VALUE=DURATION:PT1H
X-Robots-Tag:noindex
X-PUBLISHED-TTL:PT1H
BEGIN:VTIMEZONE
TZID:America/Los_Angeles
BEGIN:DAYLIGHT
TZOFFSETFROM:-0800
TZOFFSETTO:-0700
TZNAME:PDT
DTSTART:20210314T100000
END:DAYLIGHT
BEGIN:STANDARD
TZOFFSETFROM:-0700
TZOFFSETTO:-0800
TZNAME:PST
DTSTART:20211107T090000
END:STANDARD
BEGIN:DAYLIGHT
TZOFFSETFROM:-0800
TZOFFSETTO:-0700
TZNAME:PDT
DTSTART:20220313T100000
END:DAYLIGHT
BEGIN:STANDARD
TZOFFSETFROM:-0700
TZOFFSETTO:-0800
TZNAME:PST
DTSTART:20221106T090000
END:STANDARD
BEGIN:DAYLIGHT
TZOFFSETFROM:-0800
TZOFFSETTO:-0700
TZNAME:PDT
DTSTART:20230312T100000
END:DAYLIGHT
BEGIN:STANDARD
TZOFFSETFROM:-0700
TZOFFSETTO:-0800
TZNAME:PST
DTSTART:20231105T090000
END:STANDARD
END:VTIMEZONE
BEGIN:VEVENT
DTSTART;VALUE=DATE:20220513
DTEND;VALUE=DATE:20220515
DTSTAMP:20260420T101450
CREATED:20220413T001222Z
LAST-MODIFIED:20220412T182055Z
UID:10000004-1652400000-1652572799@wrba.us
SUMMARY:Button Harvest: Michigan Spring Show
DESCRIPTION:May 13-14 2022\nShowroom is open on\nSaturday 5/14\n9:00 am – 3:00 pm. \nReservations: 734-433-8000\nReserve by April 15th\nto receive MBS room rate\n$109 + tax\nHot buffet breakfast provided \nVisit the Michigan Button Society website \n\n  \n\n  \n 
URL:https://wrba.us/event/b-button-harvest-michigan-spring-show/
LOCATION:The Chelsea Comfort Inn and Village Conference Center\, 1645 Commerce Park Drive\, Chelsea\, MI\, 48118\, United States
CATEGORIES:State Society Events
ATTACH;FMTTYPE=image/webp:https://wrba.us/wp-content/uploads/2022/04/MBS-Spring-2022-Button-Show_PNG.webp
ORGANIZER;CN="Ralph and Sheri DeCew%3A Michigan Button Society":MAILTO:bbdeq@comcast.net
END:VEVENT
END:VCALENDAR