BEGIN:VCALENDAR
VERSION:2.0
PRODID:-//Western Regional Button Association - ECPv6.15.17.1//NONSGML v1.0//EN
CALSCALE:GREGORIAN
METHOD:PUBLISH
X-WR-CALNAME:Western Regional Button Association
X-ORIGINAL-URL:https://wrba.us
X-WR-CALDESC:Events for Western Regional Button Association
REFRESH-INTERVAL;VALUE=DURATION:PT1H
X-Robots-Tag:noindex
X-PUBLISHED-TTL:PT1H
BEGIN:VTIMEZONE
TZID:UTC
BEGIN:STANDARD
TZOFFSETFROM:+0000
TZOFFSETTO:+0000
TZNAME:UTC
DTSTART:20150101T000000
END:STANDARD
END:VTIMEZONE
BEGIN:VEVENT
DTSTART;VALUE=DATE:20160801
DTEND;VALUE=DATE:20160807
DTSTAMP:20260420T033502
CREATED:20151120T054331Z
LAST-MODIFIED:20160817T062844Z
UID:10000043-1470009600-1470527999@wrba.us
SUMMARY:National Button Society 2016 Convention
DESCRIPTION:Gallery Plugin
URL:https://wrba.us/event/national-convention/
LOCATION:The Crowne Plaza\, 15500 E 40th Ave.\, Denver\, CO\, United States
CATEGORIES:National Convention,State Society Events,Local Club Meetups
END:VEVENT
END:VCALENDAR