BEGIN:VCALENDAR
VERSION:2.0
PRODID:-//Western Regional Button Association - ECPv6.15.17.1//NONSGML v1.0//EN
CALSCALE:GREGORIAN
METHOD:PUBLISH
X-WR-CALNAME:Western Regional Button Association
X-ORIGINAL-URL:https://wrba.us
X-WR-CALDESC:Events for Western Regional Button Association
REFRESH-INTERVAL;VALUE=DURATION:PT1H
X-Robots-Tag:noindex
X-PUBLISHED-TTL:PT1H
BEGIN:VTIMEZONE
TZID:America/Denver
BEGIN:DAYLIGHT
TZOFFSETFROM:-0700
TZOFFSETTO:-0600
TZNAME:MDT
DTSTART:20210314T090000
END:DAYLIGHT
BEGIN:STANDARD
TZOFFSETFROM:-0600
TZOFFSETTO:-0700
TZNAME:MST
DTSTART:20211107T080000
END:STANDARD
BEGIN:DAYLIGHT
TZOFFSETFROM:-0700
TZOFFSETTO:-0600
TZNAME:MDT
DTSTART:20220313T090000
END:DAYLIGHT
BEGIN:STANDARD
TZOFFSETFROM:-0600
TZOFFSETTO:-0700
TZNAME:MST
DTSTART:20221106T080000
END:STANDARD
BEGIN:DAYLIGHT
TZOFFSETFROM:-0700
TZOFFSETTO:-0600
TZNAME:MDT
DTSTART:20230312T090000
END:DAYLIGHT
BEGIN:STANDARD
TZOFFSETFROM:-0600
TZOFFSETTO:-0700
TZNAME:MST
DTSTART:20231105T080000
END:STANDARD
END:VTIMEZONE
BEGIN:VEVENT
DTSTART;VALUE=DATE:20220401
DTEND;VALUE=DATE:20220403
DTSTAMP:20260420T125649
CREATED:20220127T044428Z
LAST-MODIFIED:20220316T164011Z
UID:10000019-1648771200-1648943999@wrba.us
SUMMARY:2022 Texas Button Show
DESCRIPTION:For the SHOW SCHEDULE and details\, visit\nthe Texas State Button Society website.\n2022 Spring Texas Show
URL:https://wrba.us/event/texas-button-show/
LOCATION:Wingate by Wyndham Round Rock Hotel & Conference Center\, 1209 N Interstate 35 Frontage Rd\, Round Rock\, TX\, 78664\, United States
ATTACH;FMTTYPE=image/jpeg:https://wrba.us/wp-content/uploads/2022/01/Texas-2022_Show_Ads_for_web-768x1120-1.jpg
END:VEVENT
END:VCALENDAR